BEGIN:VCALENDAR
VERSION:2.0
PRODID:-//hacksw/handcal//NONSGML v1.0//EN
BEGIN:VEVENT
SUMMARY:Decouverte BD Maison des Traouiero
UID:979ae0d0-0c3e-400c-a03d-95eb8949552f
DTSTART:20260316T133000Z
DTEND:20260316T150000Z
LOCATION:Localisation   Perros Guirec
CATEGORIES:Sportif
STATUS:
URL;VALUE=URI:https://lannion-marche-nordique.sportsregions.fr/evenements/2026/03/16/decouverte-bd-maison-des-traouiero-2428983
END:VEVENT
END:VCALENDAR
