BEGIN:VCALENDAR
VERSION:2.0
PRODID:-//hacksw/handcal//NONSGML v1.0//EN
BEGIN:VEVENT
SUMMARY:MN-B  Plage de Tourony
UID:f7bbeac6-fa95-4a56-9991-3ac965507958
DTSTART:20260316T133000Z
DTEND:20260316T160000Z
LOCATION:Localisation Tourony  Tregastel  
CATEGORIES:Sportif
STATUS:
URL;VALUE=URI:https://lannion-marche-nordique.sportsregions.fr/evenements/2026/03/16/mn-b-plage-de-tourony-2428980
END:VEVENT
END:VCALENDAR
