BEGIN:VCALENDAR
VERSION:2.0
PRODID:-//hacksw/handcal//NONSGML v1.0//EN
BEGIN:VEVENT
SUMMARY:MN-V  Phare de Nantouar
UID:b1f46a6e-2b4f-4f79-a23d-6a7344583750
DTSTART:20260316T133000Z
DTEND:20260316T160000Z
LOCATION:Localisation Phare de Nantouar  Louannec
CATEGORIES:Sportif
STATUS:
URL;VALUE=URI:https://lannion-marche-nordique.sportsregions.fr/evenements/2026/03/16/mn-v-phare-de-nantouar-2428979
END:VEVENT
END:VCALENDAR
